BEGIN:VCALENDAR
VERSION:2.0
PRODID:-//ChamberMaster//Event Calendar 2.0//EN
METHOD:PUBLISH
X-PUBLISHED-TTL:P3D
REFRESH-INTERVAL:P3D
CALSCALE:GREGORIAN
BEGIN:VEVENT
DTSTART:20140207T220000Z
DTEND:20140208T010000Z
X-MICROSOFT-CDO-ALLDAYEVENT:FALSE
SUMMARY:Event at Stefano's Wine & Liquor
DESCRIPTION:SPANISH WINE TASTING\n\n\n\nALIDIS WINERY\, RIBERA DEL DUERO\n\n\n\nJOVEN & ROBLE
X-ALT-DESC;FMTTYPE=text/html:<span style="font-size:16px\;"><u><strong>SPANISH WINE TASTING</strong></u><br />\n<br />\nALIDIS WINERY\, RIBERA DEL DUERO<br />\n<br />\nJOVEN &amp\; ROBLE</span>
LOCATION:STEFANO?S WINE & LIQUOR AT THE GALLERIA MALL
UID:e.330.4048
SEQUENCE:3
DTSTAMP:20260419T163410Z
URL:https://business.keybiscaynechamber.org/events/details/event-at-stefano-s-wine-liquor-02-07-2014-4048
END:VEVENT

END:VCALENDAR
