BEGIN:VCALENDAR
VERSION:2.0
PRODID:-//ChamberMaster//Event Calendar 2.0//EN
METHOD:PUBLISH
X-PUBLISHED-TTL:P3D
REFRESH-INTERVAL:P3D
CALSCALE:GREGORIAN
BEGIN:VEVENT
DTSTART;VALUE=DATE:20120128
DTEND;VALUE=DATE:20120129
TRANSP:TRANSPARENT
X-MICROSOFT-CDO-ALLDAYEVENT:TRUE
SUMMARY:Event at Stefano's Wine & Liquor
DESCRIPTION:SATURDAY JANUARY 28: RUSSIAN VODKA & CHILEAN TASTING\n\nBeluga Vodka. Russian\n\nQuinta La Cabras Cabernent Savignon- Chile
X-ALT-DESC;FMTTYPE=text/html:SATURDAY JANUARY 28: RUSSIAN VODKA &amp\; CHILEAN TASTING<br />\nBeluga Vodka. Russian<br />\nQuinta La Cabras Cabernent Savignon- Chile<br />\n
LOCATION:Stefano's Wine & Liquor
UID:e.330.3581
SEQUENCE:3
DTSTAMP:20260421T061221Z
URL:https://business.keybiscaynechamber.org/events/details/event-at-stefano-s-wine-liquor-01-28-2012-3581
END:VEVENT

END:VCALENDAR
