BEGIN:VCALENDAR
VERSION:2.0
PRODID:-//ChamberMaster//Event Calendar 2.0//EN
METHOD:PUBLISH
X-PUBLISHED-TTL:P3D
REFRESH-INTERVAL:P3D
CALSCALE:GREGORIAN
BEGIN:VEVENT
DTSTART;VALUE=DATE:20120127
DTEND;VALUE=DATE:20120128
TRANSP:TRANSPARENT
X-MICROSOFT-CDO-ALLDAYEVENT:TRUE
SUMMARY:Event at Stefano's Wine & Liquor
DESCRIPTION:FRIDAY JANUARY 27: FRENCH WINE TASTING\n\nRhone Valley & Rose Wine from Provence\n\nDomaine Grapillon D'Or - Gigondas. A classic Rhone wine with a solid 92 pts.\n\nDomaine de L'Hermitage - Bandol\, France- Rose
X-ALT-DESC;FMTTYPE=text/html:<br />\nFRIDAY JANUARY 27: FRENCH WINE TASTING<br />\nRhone Valley &amp\; Rose Wine from Provence<br />\nDomaine Grapillon D&#39\;Or - Gigondas. A classic Rhone wine with a solid 92 pts.<br />\nDomaine de L&#39\;Hermitage - Bandol\, France- Rose<br />\n
LOCATION:Stefanos Wine & Liquor
UID:e.330.3580
SEQUENCE:3
DTSTAMP:20260421T061046Z
URL:https://business.keybiscaynechamber.org/events/details/event-at-stefano-s-wine-liquor-01-27-2012-3580
END:VEVENT

END:VCALENDAR
