BEGIN:VCALENDAR
VERSION:2.0
PRODID:-//ChamberMaster//Event Calendar 2.0//EN
METHOD:PUBLISH
X-PUBLISHED-TTL:P3D
REFRESH-INTERVAL:P3D
CALSCALE:GREGORIAN
BEGIN:VEVENT
DTSTART:20140124T220000Z
DTEND:20140125T010000Z
X-MICROSOFT-CDO-ALLDAYEVENT:FALSE
SUMMARY:Event at Stefano's Wine & Liquor
DESCRIPTION:CALIFORNIA & ARGENTINIAN WINE TASTING PULENTA MALBEC. ARGENTINA CROSSBARN PINOT NOIR\, CALIFORNIA
X-ALT-DESC;FMTTYPE=text/html:CALIFORNIA &amp\; ARGENTINIAN WINE TASTING PULENTA MALBEC. ARGENTINA CROSSBARN PINOT NOIR\, CALIFORNIA
LOCATION:STEFANO?S WINE & LIQUOR AT THE GALLERIA MALL
UID:e.330.4043
SEQUENCE:3
DTSTAMP:20260419T191303Z
URL:https://business.keybiscaynechamber.org/events/details/event-at-stefano-s-wine-liquor-01-24-2014-4043
END:VEVENT

END:VCALENDAR
