BEGIN:VCALENDAR
VERSION:2.0
PRODID:-//ChamberMaster//Event Calendar 2.0//EN
METHOD:PUBLISH
X-PUBLISHED-TTL:P3D
REFRESH-INTERVAL:P3D
CALSCALE:GREGORIAN
BEGIN:VEVENT
DTSTART:20120121T220000Z
DTEND:20120122T010000Z
X-MICROSOFT-CDO-ALLDAYEVENT:FALSE
SUMMARY:Event at Stefano's Wine & Liquor
DESCRIPTION:Saturday\,  January 21st\n\n	\n\n	RUM TASTING!   RON ATLANTICO from DOMICAN REPUBLIC\n\n	\n\n	23 YRS RESERVE!
X-ALT-DESC;FMTTYPE=text/html:<p>\n	Saturday\,&nbsp\; January 21st<br />\n	<br />\n	RUM TASTING!&nbsp\;&nbsp\; RON ATLANTICO from DOMICAN REPUBLIC<br />\n	<br />\n	23 YRS RESERVE!</p>\n
LOCATION:Stefano's Wine & Liquor
UID:e.330.3578
SEQUENCE:3
DTSTAMP:20260421T061122Z
URL:https://business.keybiscaynechamber.org/events/details/event-at-stefano-s-wine-liquor-01-21-2012-3578
END:VEVENT

END:VCALENDAR
