BEGIN:VCALENDAR
VERSION:2.0
PRODID:-//ChamberMaster//Event Calendar 2.0//EN
METHOD:PUBLISH
X-PUBLISHED-TTL:P3D
REFRESH-INTERVAL:P3D
CALSCALE:GREGORIAN
BEGIN:VEVENT
DTSTART;VALUE=DATE:20120120
DTEND;VALUE=DATE:20120121
TRANSP:TRANSPARENT
X-MICROSOFT-CDO-ALLDAYEVENT:TRUE
SUMMARY:Event at Stefano's Wine & Liquor
DESCRIPTION:Friday\, January 20th\, 2012\n\n	\n\n	California Wine Tasting:  Wines from Napa Valley & Sonoma Coast
X-ALT-DESC;FMTTYPE=text/html:<p>\n	<span style="font-size: 14px"><span style="font-family: arial"><span style="background-color: #f0ffff"><span style="color: #0000cd">Friday\, January 20th\, 2012<br />\n	<br />\n	California Wine Tasting:&nbsp\; Wines from Napa Valley &amp\; Sonoma Coast</span></span></span></span></p>\n
LOCATION:Stefanos Wine & Liquor ( located in the Galleria Mall)
UID:e.330.3577
SEQUENCE:3
DTSTAMP:20260421T061047Z
URL:https://business.keybiscaynechamber.org/events/details/event-at-stefano-s-wine-liquor-01-20-2012-3577
END:VEVENT

END:VCALENDAR
