BEGIN:VCALENDAR
VERSION:2.0
PRODID:-//ChamberMaster//Event Calendar 2.0//EN
METHOD:PUBLISH
X-PUBLISHED-TTL:P3D
REFRESH-INTERVAL:P3D
CALSCALE:GREGORIAN
BEGIN:VEVENT
DTSTART:20140118T220000Z
DTEND:20140118T220000Z
X-MICROSOFT-CDO-ALLDAYEVENT:FALSE
SUMMARY:Event at Stefano's Wine & Liquor
DESCRIPTION:CALIFORNIA CHARDONNAY & PORT WINES TASTING\n\n\n\nJAQK HER MAJESTY CHARDONNAY\, NAPA\n\n\n\nNIEPOORT PORT WINE
X-ALT-DESC;FMTTYPE=text/html:<span style="font-size: 16px"><strong>CALIFORNIA CHARDONNAY &amp\; PORT WINES TASTING</strong><br />\n<br />\nJAQK HER MAJESTY CHARDONNAY\, NAPA<br />\n<br />\nNIEPOORT PORT WINE</span><br />\n<br />\n<br />\n
LOCATION:STEFANO?S WINE & LIQUOR AT THE GALLERIA MALL
UID:e.330.4042
SEQUENCE:3
DTSTAMP:20260419T175237Z
URL:https://business.keybiscaynechamber.org/events/details/event-at-stefano-s-wine-liquor-01-18-2014-4042
END:VEVENT

END:VCALENDAR
