BEGIN:VCALENDAR
VERSION:2.0
PRODID:-//ChamberMaster//Event Calendar 2.0//EN
METHOD:PUBLISH
X-PUBLISHED-TTL:P3D
REFRESH-INTERVAL:P3D
CALSCALE:GREGORIAN
BEGIN:VEVENT
DTSTART;VALUE=DATE:20120113
DTEND;VALUE=DATE:20120114
TRANSP:TRANSPARENT
X-MICROSOFT-CDO-ALLDAYEVENT:TRUE
SUMMARY:Event at Stefano's Wine & Liquor
DESCRIPTION:Ribera del Duero Wine Tasting: Visit and sample the famous reds from Spain's most exciting wine region.  Tasting will be from 5pm to 8pm\n\n	\n\n	Receive 10% on all of the wines participating in the tasting.
X-ALT-DESC;FMTTYPE=text/html:<h3 style="color: blue">\n	Ribera del Duero Wine Tasting:&nbsp\;Visit and sample the famous reds from Spain&#39\;s most exciting wine region.&nbsp\; Tasting will be from 5pm to 8pm<br />\n	<br />\n	Receive 10% on all of the wines participating in the tasting.<br />\n	<br />\n	&nbsp\;</h3>\n
LOCATION:Stefano's Wine & Liquor located at the Galleria Mall
UID:e.330.3574
SEQUENCE:3
DTSTAMP:20260421T061122Z
URL:https://business.keybiscaynechamber.org/events/details/event-at-stefano-s-wine-liquor-01-13-2012-3574
END:VEVENT

END:VCALENDAR
