BEGIN:VCALENDAR
VERSION:2.0
PRODID:-//ChamberMaster//Event Calendar 2.0//EN
METHOD:PUBLISH
X-PUBLISHED-TTL:P3D
REFRESH-INTERVAL:P3D
CALSCALE:GREGORIAN
BEGIN:VEVENT
DTSTART:20120215T010000Z
DTEND:20120215T030000Z
X-MICROSOFT-CDO-ALLDAYEVENT:FALSE
SUMMARY:Event at Miami Seaquarium
DESCRIPTION:Make this Valentine's Day unforgettable! Reserve a table for two on the terrace overlooking our playful dolphins. You'll enjoy a catered buffet dinner\, a bottle of wine and\, of course\, some pretty amazing company. Your special night also includes two certificates to come back and swim with our dolphins and experience the new Sea Trek Reef Encounter\, a helmet diving adventure. Plus\, you'll receive two annual passes to Miami Seaquarium. A value of $695 for only $398 plus tax.\n\n\n\nSpace is limited\, so reserve your table today by calling 305-365-2501.
X-ALT-DESC;FMTTYPE=text/html:Make this Valentine&rsquo\;s Day unforgettable! Reserve a table for two on the terrace overlooking our playful dolphins. You&rsquo\;ll enjoy a catered buffet dinner\, a bottle of wine and\, of course\, some pretty amazing company. Your special night also includes two certificates to come back and swim with our dolphins and experience the new Sea Trek Reef Encounter\, a helmet diving adventure. Plus\, you&rsquo\;ll receive two annual passes to Miami Seaquarium. A value of $695 for only $398 plus tax.<br />\n<br />\nSpace is limited\, so reserve your table today by calling 305-365-2501.<br />\n
LOCATION:Miami Seaquarium
UID:e.330.3583
SEQUENCE:3
DTSTAMP:20260421T043646Z
URL:https://business.keybiscaynechamber.org/events/details/event-at-miami-seaquarium-02-14-2012-3583
END:VEVENT

END:VCALENDAR
