BEGIN:VCALENDAR
VERSION:2.0
PRODID:-//ChamberMaster//Event Calendar 2.0//EN
METHOD:PUBLISH
X-PUBLISHED-TTL:P3D
REFRESH-INTERVAL:P3D
CALSCALE:GREGORIAN
BEGIN:VEVENT
DTSTART;VALUE=DATE:20110511
DTEND;VALUE=DATE:20110512
TRANSP:TRANSPARENT
X-MICROSOFT-CDO-ALLDAYEVENT:TRUE
SUMMARY:Event at FMKidz.com
DESCRIPTION:Looking for a little variety or a competitive challenge in your workout? Then check out our personal trainer group fitness class.  Joying this fitness class and get in the best shape of your life. Come and joying us at The Village Green\n\n	May 11 at 9 am. For more information call 305 469 05 64 Nohelia Siddons
X-ALT-DESC;FMTTYPE=text/html:<div style="font-family: Arial\, Verdana\, sans-serif\; font-size: 12px\; color: rgb(34\, 34\, 34)\; background-color: rgb(255\, 255\, 255)\; ">\n	Looking for a little variety or a competitive challenge in your workout? Then check out our personal trainer group fitness class. &nbsp\;Joying this fitness class and get in the best shape of your life. Come and joying us at The Village Green<br />\n	May 11 at 9 am. For more information call 305 469 05 64 Nohelia Siddons</div>
LOCATION:Village Green
UID:e.330.3377
SEQUENCE:3
DTSTAMP:20260421T172258Z
URL:https://business.keybiscaynechamber.org/events/details/event-at-fmkidz-com-05-11-2011-3377
END:VEVENT

END:VCALENDAR
