BEGIN:VCALENDAR
VERSION:2.0
PRODID:-//ChamberMaster//Event Calendar 2.0//EN
METHOD:PUBLISH
X-PUBLISHED-TTL:P3D
REFRESH-INTERVAL:P3D
CALSCALE:GREGORIAN
BEGIN:VEVENT
DTSTART:20140427T220000Z
DTEND:20140428T000000Z
X-MICROSOFT-CDO-ALLDAYEVENT:FALSE
SUMMARY:EMMS Pasta Dinner
DESCRIPTION:The 25 th annual Pasta Dinner for  The Eileen McCaughan Memorial          Scholarship Fund
X-ALT-DESC;FMTTYPE=text/html:The 25 th annual Pasta Dinner for&nbsp\; The Eileen McCaughan Memorial &nbsp\; &nbsp\; &nbsp\; &nbsp\; &nbsp\;Scholarship Fund
LOCATION:The Fairways at Crandon Park Golf Course
UID:e.330.4094
SEQUENCE:3
DTSTAMP:20260419T133414Z
URL:https://business.keybiscaynechamber.org/events/details/emms-pasta-dinner-04-27-2014-4094
END:VEVENT

END:VCALENDAR
