BEGIN:VCALENDAR
VERSION:2.0
PRODID:-//ChamberMaster//Event Calendar 2.0//EN
METHOD:PUBLISH
X-PUBLISHED-TTL:P3D
REFRESH-INTERVAL:P3D
CALSCALE:GREGORIAN
BEGIN:VEVENT
DTSTART:20130420T123000Z
DTEND:20130420T173000Z
X-MICROSOFT-CDO-ALLDAYEVENT:FALSE
SUMMARY:Electronics Recycling Drive
DESCRIPTION:The village of Key Biscayne will be collecting your old or unused electronics.\n\nItems accepted are computers and their accessories\, laptop\, batteries\, media players\, copiers\, fax and phones. Not accepted is electrical kitchen equipment\, such as washers\, dryers\, dishwashers or microwaves.
X-ALT-DESC;FMTTYPE=text/html:The village of Key Biscayne will be collecting your old or unused electronics.<br />\n<span style="font-size: 10pt"><span style="font-family: arial\, sans-serif">Items accepted are computers and their accessories\, laptop\, batteries\, media players\, copiers\, fax and phones. Not accepted is electrical kitchen equipment\, such as washers\, dryers\, dishwashers or microwaves.</span></span>
LOCATION:West Enid Drive between Crandon & Fernwood
UID:e.330.3895
SEQUENCE:3
DTSTAMP:20260420T074524Z
URL:https://business.keybiscaynechamber.org/events/details/electronics-recycling-drive-04-20-2013-3895
END:VEVENT

END:VCALENDAR
