BEGIN:VCALENDAR
VERSION:2.0
PRODID:-//ChamberMaster//Event Calendar 2.0//EN
METHOD:PUBLISH
X-PUBLISHED-TTL:P3D
REFRESH-INTERVAL:P3D
CALSCALE:GREGORIAN
BEGIN:VEVENT
DTSTART:20121107T010000Z
DTEND:20121107T045500Z
X-MICROSOFT-CDO-ALLDAYEVENT:FALSE
SUMMARY:Election Results at The Ibis Lounge
DESCRIPTION:Vote on Tuesday\, Nov 6th and come watch the results with us\n\n\n\n$2.50 domestic beers all night
X-ALT-DESC;FMTTYPE=text/html:Vote on Tuesday\, Nov 6th and come watch the results with us<br />\n<br />\n$2.50 domestic beers all night
LOCATION:The Ibis Lounge 200 Crandon Blvd #101 Key Biscayne\, Fl 33149
UID:e.330.3786
SEQUENCE:3
DTSTAMP:20260420T145527Z
URL:https://business.keybiscaynechamber.org/events/details/election-results-at-the-ibis-lounge-11-06-2012-3786
END:VEVENT

END:VCALENDAR
