BEGIN:VCALENDAR
VERSION:2.0
PRODID:-//ChamberMaster//Event Calendar 2.0//EN
METHOD:PUBLISH
X-PUBLISHED-TTL:P3D
REFRESH-INTERVAL:P3D
CALSCALE:GREGORIAN
BEGIN:VEVENT
DTSTART:20130418T160000Z
DTEND:20130422T160000Z
X-MICROSOFT-CDO-ALLDAYEVENT:FALSE
SUMMARY:Eileen McCaughan Memorial Scholarship Fund Pasta Dinner
DESCRIPTION:This is the annual fundraiser the Eileen McCaughan Memorial Scholarship Fund.. More than 140  students have received over $300\,000 in 24 years.
X-ALT-DESC;FMTTYPE=text/html:This is the annual fundraiser the Eileen McCaughan Memorial Scholarship Fund.. More than 140 &nbsp\;students have received over $300\,000 in 24 years.
LOCATION:New location Fairway Restaurant on the Crandon Park Golf Course
UID:e.330.3897
SEQUENCE:3
DTSTAMP:20260420T075101Z
URL:https://business.keybiscaynechamber.org/events/details/eileen-mccaughan-memorial-scholarship-fund-pasta-dinner-04-18-2013-3897
END:VEVENT

END:VCALENDAR
