BEGIN:VCALENDAR
VERSION:2.0
PRODID:-//ChamberMaster//Event Calendar 2.0//EN
METHOD:PUBLISH
X-PUBLISHED-TTL:P3D
REFRESH-INTERVAL:P3D
CALSCALE:GREGORIAN
BEGIN:VEVENT
DTSTART:20130601T000000Z
DTEND:20130601T030000Z
X-MICROSOFT-CDO-ALLDAYEVENT:FALSE
SUMMARY:ecigarette vapor tasting at The Ibis Lounge
DESCRIPTION:Come sample Tropicana Vapor's best selling flavors
X-ALT-DESC;FMTTYPE=text/html:Come sample Tropicana Vapor&#39\;s best selling flavors
LOCATION:The Ibis Lounge 200 Crandon Blvd Key Biscayne\, Fl 33140
UID:e.330.3917
SEQUENCE:3
DTSTAMP:20260420T062015Z
URL:https://business.keybiscaynechamber.org/events/details/ecigarette-vapor-tasting-at-the-ibis-lounge-05-31-2013-3917
END:VEVENT

END:VCALENDAR
