BEGIN:VCALENDAR
VERSION:2.0
PRODID:-//ChamberMaster//Event Calendar 2.0//EN
METHOD:PUBLISH
X-PUBLISHED-TTL:P3D
REFRESH-INTERVAL:P3D
CALSCALE:GREGORIAN
BEGIN:VEVENT
DTSTART:20130504T000000Z
DTEND:20130504T030000Z
X-MICROSOFT-CDO-ALLDAYEVENT:FALSE
SUMMARY:eCigarette/Vapor Tasting at The Ibis Lounge
DESCRIPTION:Sample Tropicana Flavors vaping juice
X-ALT-DESC;FMTTYPE=text/html:Sample Tropicana Flavors vaping juice
LOCATION:The Ibis Lounge 200 Crandon Blvd #101 Key Biscayne\, Fl 33149
UID:e.330.3906
SEQUENCE:3
DTSTAMP:20260420T074804Z
URL:https://business.keybiscaynechamber.org/events/details/ecigarette-vapor-tasting-at-the-ibis-lounge-05-03-2013-3906
END:VEVENT

END:VCALENDAR
