BEGIN:VCALENDAR
VERSION:2.0
PRODID:-//ChamberMaster//Event Calendar 2.0//EN
METHOD:PUBLISH
X-PUBLISHED-TTL:P3D
REFRESH-INTERVAL:P3D
CALSCALE:GREGORIAN
BEGIN:VEVENT
DTSTART:20120918T140000Z
DTEND:20120918T190000Z
X-MICROSOFT-CDO-ALLDAYEVENT:FALSE
SUMMARY:Drivers License Renewals
DESCRIPTION:BY APPOINTMENT ONLY\n\n\n\nFlorida Licensing on Wheels\n\n\n\nA team of driver's license examiners will be on hand to renew or issue replacements or duplicates of your driver's license and vehicle registration\, issue new or replacement identification cards\, complete out-of-state driver's license transfers and provide handicap decals.\n\n\n\nCall Roxy Lohuis-Tejada at 305-365-8953 for appointments and information on needed documentation.\n\nNote:  Renewals can be completed up to 18 months in advance of expiration date.
X-ALT-DESC;FMTTYPE=text/html:<span style="color: #ff0000"><span style="font-size: 14px"><span style="font-family: verdana"><em><strong><u>BY APPOINTMENT ONLY</u></strong></em></span></span></span><br />\n<br />\n<strong>Florida Licensing on Wheels</strong><br />\n<br />\nA team of driver&#39\;s license examiners will be on hand to renew or issue replacements or duplicates of your driver&#39\;s license and vehicle registration\, issue new or replacement identification cards\, complete out-of-state driver&#39\;s license transfers and provide handicap decals.<br />\n<br />\nCall Roxy Lohuis-Tejada at <span style="color: #ff0000">305-365-8953 </span>for appointments and information on needed documentation.<br />\nNote:&nbsp\; Renewals can be completed up to 18 months in advance of expiration date.
LOCATION:Community Center Adult Lounge 10 Village Green Way Key Biscayne\, FL 33149
UID:e.330.3763
SEQUENCE:3
DTSTAMP:20260420T174258Z
URL:https://business.keybiscaynechamber.org/events/details/drivers-license-renewals-09-18-2012-3763
END:VEVENT

END:VCALENDAR
