BEGIN:VCALENDAR
VERSION:2.0
PRODID:-//ChamberMaster//Event Calendar 2.0//EN
METHOD:PUBLISH
X-PUBLISHED-TTL:P3D
REFRESH-INTERVAL:P3D
CALSCALE:GREGORIAN
BEGIN:VEVENT
DTSTART:20260118T000000Z
DTEND:20260118T040000Z
X-MICROSOFT-CDO-ALLDAYEVENT:FALSE
SUMMARY:Dominos for Education
DESCRIPTION:Enjoy a fun evening of dominoes with the Key Biscayne community\, all for a great cause.\n\n\n\nDominoes for Education benefits the Liberty City Scholarship Fund\, helping provide life-changing educational opportunities for local students.\n\n\n\nPlay\, connect\, and give back\, one domino at a time.
X-ALT-DESC;FMTTYPE=text/html:<br />\n<br />\nEnjoy a fun evening of dominoes with the Key Biscayne community\, all for a great cause.<br />\n<br />\nDominoes for Education benefits the Liberty City Scholarship Fund\, helping provide life-changing educational opportunities for local students.<br />\n<br />\nPlay\, connect\, and give back\, one domino at a time.
LOCATION:Key Biscayne Beach Club
UID:e.330.23310
SEQUENCE:3
DTSTAMP:20260424T194002Z
URL:https://business.keybiscaynechamber.org/events/details/dominos-for-education-01-17-2026-23310
END:VEVENT

END:VCALENDAR
