BEGIN:VCALENDAR
VERSION:2.0
PRODID:-//ChamberMaster//Event Calendar 2.0//EN
METHOD:PUBLISH
X-PUBLISHED-TTL:P3D
REFRESH-INTERVAL:P3D
CALSCALE:GREGORIAN
BEGIN:VEVENT
DTSTART:20120924T220000Z
DTEND:20120924T160000Z
X-MICROSOFT-CDO-ALLDAYEVENT:FALSE
SUMMARY:Dine out Night
DESCRIPTION:Support our local restaurants by dining out on the Key & show your passion for great food \n	\n		  \n	Postpone that lunch meeting until dinner on Monday\, move a date-nights to Monday evening\, switch your plans to eat out with friends - bring your family\, colleagues and co-workers to a Key Biscayne Restaurant.\n\n	 \n\n	Dine Out Night! is a County-wide initiative in support of local restauants. Sponsored by Chamber South\, Coconut Grove Chamber of Commerce\, Coral Gables Chamber of Commerce\, Key Biscayne Chamber of Commerce\, Miami-Dade Gay and Lesbian Chamber of Commerce\, Greater Miami Chamber of Commerce\, Miami Beach Chamber of Commerce\, Miami-Dade Chamber of Commerce\, North Dade Chamber\, the Doral Business Council\, Miami-Dade Beacon Council\, the Greater Miami Convention and Visitors Bureau\, Greater Miami and the Beaches Hotel Association and the Aventura Marketing Council.
X-ALT-DESC;FMTTYPE=text/html:<br />\n<div align="center">\n	<span style="font-size: 12px"><span style="font-family: arial"><font style="font-size: 18pt"><strong>Support our local restaurants by&nbsp\;dining out on the Key &amp\; show your passion for great food </strong></font></span></span>\n	<div>\n		<span style="font-size: 12px"><span style="font-size: 14px"><span style="font-family: arial"><font style="font-size: 18pt"><strong>&nbsp\;</strong></font></span></span></span><span style="font-size: 12px"><font style="font-size: 18pt"><strong>&nbsp\;</strong></font></span></div>\n	<span style="font-size: 12px"><font style="font-size: 18pt">Postpone that lunch meeting until dinner on Monday\, move a date-nights to Monday evening\, switch&nbsp\;your plans to eat out with friends - bring&nbsp\;your family\, colleagues and co-workers to&nbsp\;a&nbsp\;Key Biscayne Restaurant.</font></span></div>\n<div align="left">\n	<span style="font-size: 12px"><font style="font-size: 10pt">&nbsp\;</font></span></div>\n<p>\n	<span style="font-size: 12px"><font style="font-size: 10pt"><font color="#003366">Dine Out Night! is a County-wide initiative&nbsp\;in&nbsp\;support of&nbsp\;local restauants. Sponsored by&nbsp\;Chamber South\, Coconut Grove Chamber of Commerce\, Coral Gables Chamber of Commerce\, Key Biscayne Chamber of Commerce\, Miami-Dade Gay and Lesbian Chamber of Commerce\, Greater Miami Chamber of Commerce\, Miami Beach Chamber of Commerce\, Miami-Dade Chamber of Commerce\, North Dade Chamber\, the Doral Business Council\, Miami-Dade Beacon Council\, the Greater Miami Convention and Visitors Bureau\, Greater Miami and the Beaches Hotel Association and the Aventura Marketing Council.</font></font></span></p>\n
LOCATION:Boost our local economy and dine out at a local restaurant.
UID:e.330.2078
SEQUENCE:3
DTSTAMP:20260420T192705Z
URL:https://business.keybiscaynechamber.org/events/details/dine-out-night-09-24-2012-2078
END:VEVENT

END:VCALENDAR
