BEGIN:VCALENDAR
VERSION:2.0
PRODID:-//ChamberMaster//Event Calendar 2.0//EN
METHOD:PUBLISH
X-PUBLISHED-TTL:P3D
REFRESH-INTERVAL:P3D
CALSCALE:GREGORIAN
BEGIN:VEVENT
DTSTART;VALUE=DATE:20140502
DTEND;VALUE=DATE:20140510
TRANSP:TRANSPARENT
X-MICROSOFT-CDO-ALLDAYEVENT:TRUE
SUMMARY:Diamonds on the Key Trunk Show
DESCRIPTION:Special Trunk Show for Mother's Day and Graduation
X-ALT-DESC;FMTTYPE=text/html:Special Trunk Show for Mother&#39\;s Day and Graduation
LOCATION:Diamonds on the Key
UID:e.330.4103
SEQUENCE:3
DTSTAMP:20260419T121146Z
URL:https://business.keybiscaynechamber.org/events/details/diamonds-on-the-key-trunk-show-05-02-2014-4103
END:VEVENT

END:VCALENDAR
