BEGIN:VCALENDAR
VERSION:2.0
PRODID:-//ChamberMaster//Event Calendar 2.0//EN
METHOD:PUBLISH
X-PUBLISHED-TTL:P3D
REFRESH-INTERVAL:P3D
CALSCALE:GREGORIAN
BEGIN:VEVENT
DTSTART:20130506T150000Z
DTEND:20130510T220000Z
X-MICROSOFT-CDO-ALLDAYEVENT:FALSE
SUMMARY:Diamonds on the Key Mother's Day Trunk Show
DESCRIPTION:View an extensive selection of fine jewelry gift items for Mother's Day\, Graduations\, Brides and First Communions including the "Gypsy Collection in 14 karat gold and gemstones.
X-ALT-DESC;FMTTYPE=text/html:View an extensive selection of fine jewelry gift items for Mother&#39\;s Day\, Graduations\, Brides and First Communions including the &quot\;Gypsy Collection in 14 karat gold and gemstones.
LOCATION:Key Executive Building 104 Crandon Blvd 4th Floor\, Suite 421A Key Biscayne\, FL 33149
UID:e.330.3905
SEQUENCE:3
DTSTAMP:20260420T062014Z
URL:https://business.keybiscaynechamber.org/events/details/diamonds-on-the-key-mother-s-day-trunk-show-05-06-2013-3905
END:VEVENT

END:VCALENDAR
