BEGIN:VCALENDAR
VERSION:2.0
PRODID:-//ChamberMaster//Event Calendar 2.0//EN
METHOD:PUBLISH
X-PUBLISHED-TTL:P3D
REFRESH-INTERVAL:P3D
CALSCALE:GREGORIAN
BEGIN:VEVENT
DTSTART:20110503T130000Z
DTEND:20110504T210000Z
X-MICROSOFT-CDO-ALLDAYEVENT:FALSE
SUMMARY:Diamonds on the Key Mother's Day Special Open House
DESCRIPTION:Special Mother's Day Open House - two days only.\n\n\n\nWith refreshments served all day!\n\n\n\nRemember\, flowers wilt\, chocolates melt (or go to the hips!) but diamonds are forever.........\n\n\n\nView an extensive selection of fine jewelry\, included the "Gypsy Collection" featured here in 14 karat gold and gemstones starting at only $225.
X-ALT-DESC;FMTTYPE=text/html:<span style="font-family: arial"><span style="font-size: 12px">Special Mother&#39\;s Day Open House - two days only.<br />\n<br />\nWith refreshments served all day!<br />\n<br />\nRemember\, flowers wilt\, chocolates melt (or go to the hips!) but diamonds are forever.........<br />\n<br />\nView an extensive selection of fine jewelry\, included the &quot\;Gypsy Collection&quot\; featured here in 14 karat gold and gemstones starting at only $225.</span></span>
LOCATION:Key Executive Building\, 104 Crandon Boulevard\, Suite 421A
UID:e.330.3351
SEQUENCE:3
DTSTAMP:20260421T173303Z
URL:https://business.keybiscaynechamber.org/events/details/diamonds-on-the-key-mother-s-day-special-open-house-05-03-2011-3351
END:VEVENT

END:VCALENDAR
