BEGIN:VCALENDAR
VERSION:2.0
PRODID:-//ChamberMaster//Event Calendar 2.0//EN
METHOD:PUBLISH
X-PUBLISHED-TTL:P3D
REFRESH-INTERVAL:P3D
CALSCALE:GREGORIAN
BEGIN:VEVENT
DTSTART;VALUE=DATE:20120220
DTEND;VALUE=DATE:20120221
TRANSP:TRANSPARENT
X-MICROSOFT-CDO-ALLDAYEVENT:TRUE
SUMMARY:Day Camp at Miami Seaquarium
DESCRIPTION:Turn a day off from school into an education-packed experience at Camp Seaquarium. Children will enjoy exciting animal interactions\, shows\, art projects\, games\, and marine biology fun. Register today: 305-361-5705 ext 207
X-ALT-DESC;FMTTYPE=text/html:Turn a day off from school into an education-packed experience at Camp Seaquarium. Children will enjoy exciting animal interactions\, shows\, art projects\, games\, and marine biology fun. Register today: 305-361-5705 ext 207<br />\n
LOCATION:Miami Seaquarium
UID:e.330.3584
SEQUENCE:3
DTSTAMP:20260421T043838Z
URL:https://business.keybiscaynechamber.org/events/details/day-camp-at-miami-seaquarium-02-20-2012-3584
END:VEVENT

END:VCALENDAR
