BEGIN:VCALENDAR
VERSION:2.0
PRODID:-//ChamberMaster//Event Calendar 2.0//EN
METHOD:PUBLISH
X-PUBLISHED-TTL:P3D
REFRESH-INTERVAL:P3D
CALSCALE:GREGORIAN
BEGIN:VEVENT
DTSTART:20251213T183000Z
DTEND:20251213T233000Z
X-MICROSOFT-CDO-ALLDAYEVENT:FALSE
SUMMARY:Cookies & Cocoa
DESCRIPTION:Families can celebrate the holiday season with festive treats\, games and coastal charm at one of Miami's most historic beachfront parks.\n\nPresented by the Virginia Key Beach Park Trust\, the Cookies & Cocoa event takes place Saturday\, December 13 at Historic Virginia Key Beach Park. Guests can enjoy amusement rides\, kid-friendly games and a Santa photo experience in a relaxed\, family-friendly atmosphere. This annual gathering combines holiday cheer with the park's seaside setting\, offering a joyful afternoon of community celebration.
X-ALT-DESC;FMTTYPE=text/html:<p><br />\n<br />\n<span style="font-size:18px\;">Families can celebrate the holiday season with festive treats\, games and coastal charm at one of Miami&rsquo\;s most historic beachfront parks.</span></p>\n\n<p><span style="font-size:18px\;">Presented by the Virginia Key Beach Park Trust\, the&nbsp\;Cookies &amp\; Cocoa&nbsp\;event takes place Saturday\, December 13 at&nbsp\;Historic Virginia Key Beach Park. Guests can enjoy amusement rides\, kid-friendly games and a Santa photo experience in a relaxed\, family-friendly atmosphere. This annual gathering combines holiday cheer with the park&rsquo\;s seaside setting\, offering a joyful afternoon of community celebration.</span></p>\n
LOCATION:Historic Virginia Key Beach Park
UID:e.330.23270
SEQUENCE:3
DTSTAMP:20260424T180840Z
URL:https://business.keybiscaynechamber.org/events/details/cookies-cocoa-12-13-2025-23270
END:VEVENT

END:VCALENDAR
