BEGIN:VCALENDAR
VERSION:2.0
PRODID:-//ChamberMaster//Event Calendar 2.0//EN
METHOD:PUBLISH
X-PUBLISHED-TTL:P3D
REFRESH-INTERVAL:P3D
CALSCALE:GREGORIAN
BEGIN:VEVENT
DTSTART:20250812T220000Z
DTEND:20250813T000000Z
X-MICROSOFT-CDO-ALLDAYEVENT:FALSE
SUMMARY:Community Budget Meeting
DESCRIPTION:Participating in our annual budget process is essential for maintaining and enhancing life in our Island Paradise. \n\n\n\nManager Steve Williamson and Chief Financial Officer Benjamin Nussbaum will explain the budget creation process and share details about the 2025-2026 budget as well as take questions and listen to resident + recommendations.\n\n\n\nYour participation in the meeting helps ensure our resources are allocated effectively and your voice is heard.
X-ALT-DESC;FMTTYPE=text/html:<br />\n<br />\n<span style="font-size:16px\;"><span style="font-family:arial\;">Participating in our annual budget process is essential for maintaining and enhancing life in our Island Paradise.&nbsp\;<br />\n<br />\nManager Steve Williamson and Chief Financial Officer Benjamin Nussbaum will explain the budget creation process and share details about the 2025-2026 budget as well as take questions and listen to resident + recommendations.<br />\n<br />\nYour participation in the meeting helps ensure our resources are allocated effectively and your voice is heard.</span></span>
LOCATION:Key Biscayne Community Center (Lighthouse Room)
UID:e.330.23135
SEQUENCE:3
DTSTAMP:20260425T001242Z
URL:https://business.keybiscaynechamber.org/events/details/community-budget-meeting-08-12-2025-23135
END:VEVENT

END:VCALENDAR
