BEGIN:VCALENDAR
VERSION:2.0
PRODID:-//ChamberMaster//Event Calendar 2.0//EN
METHOD:PUBLISH
X-PUBLISHED-TTL:P3D
REFRESH-INTERVAL:P3D
CALSCALE:GREGORIAN
BEGIN:VEVENT
DTSTART;VALUE=DATE:20120419
DTEND;VALUE=DATE:20120520
TRANSP:TRANSPARENT
X-MICROSOFT-CDO-ALLDAYEVENT:TRUE
SUMMARY:Commenoz Gallery presents TIME AND SPACE
DESCRIPTION:Commenoz Gallery\n\n	presents\n\n	TIME AND SPACE\n\n	 \n\n	New paintings by Charlotte Franchissey\, Joyce Kaiser\, Marcela Olivares\, Magdalena Vial and Trudy Weisenberger\n\n	\n\n	Opening Reception Thursday April 19\, 2012\, 6 - 9 pm\n\n	Exhibition continues until May 19\, 2012
X-ALT-DESC;FMTTYPE=text/html:<p style="text-align: center">\n	<span style="font-size: 16px"><span style="color: #660033">Commenoz Gallery<br />\n	presents<br />\n	TIME AND SPACE</span></span><br />\n	&nbsp\;</p>\n<p>\n	<span style="font-size: 14px"><span style="color: #660033">New paintings by Charlotte Franchissey\, Joyce Kaiser\, Marcela Olivares\, Magdalena Vial and Trudy Weisenberger<br />\n	<br />\n	Opening Reception Thursday April 19\, 2012\, 6 - 9 pm<br />\n	Exhibition continues until May 19\, 2012</span></span></p>\n
LOCATION:328 Crandon Blvd #218 Key Biscayne\, FL 33149
UID:e.330.3689
SEQUENCE:3
DTSTAMP:20260421T014856Z
URL:https://business.keybiscaynechamber.org/events/details/commenoz-gallery-presents-time-and-space-04-19-2012-3689
END:VEVENT

END:VCALENDAR
