BEGIN:VCALENDAR
VERSION:2.0
PRODID:-//ChamberMaster//Event Calendar 2.0//EN
METHOD:PUBLISH
X-PUBLISHED-TTL:P3D
REFRESH-INTERVAL:P3D
CALSCALE:GREGORIAN
BEGIN:VEVENT
DTSTART:20110317T220000Z
DTEND:20110318T010000Z
X-MICROSOFT-CDO-ALLDAYEVENT:FALSE
SUMMARY:Commenoz Gallery Photo Exhibition
DESCRIPTION:Commenoz Gallery is proud to present a one woman show of new work from French artist Colette Birambo\, who will be flying in from Paris for the show and cocktail reception  on Thursday\, March 17 from 6 to 9pm at the Commenoz Gallery in the Galleria Shopping Mall.\n\n	The show is entitled "Colette goes Tripping in The Tropics"        \n\n	A book of her photographs containing a limited edition has been published for this occasion.  A portion of the proceeds from this sale will benefit The American Cancer Society.\n\n	Working and living in Paris\, Colette has created through her art a Universe of her own.   Vivid colors found in tropical places fill her work.  By using her digital camera\, she chooses images that later she manipulates in her computer\, producing a collage effect of several images that gives us a new re-created reality. There are diverse shapes\, identifiable signs borrowed from many of the world's cultures which bears witness to an insatiable curiosity.  There is an underlying element of discovery that fuels her art both mentally and technically.  In her own words:    "I See things through Colors\, Forms\, Rhythms\, Textures\, Always Looking for a space\, a ray of light". Colette has been coming to Miami for the past 25 years\, fascinated by the light and colors that she finds in this city\, where she has snatched through her lens moments that cannot be reproduced.\n\n	For further information contact Naydu Commenoz at (305) 361-7052
X-ALT-DESC;FMTTYPE=text/html:<p class="MsoNormalCxSpFirst" style="margin: 1em 0px 0pt\; mso-add-space: auto">\n	<span style="font-family: arial"><span style="font-size: 12px"><span style="mso-bidi-font-weight: bold"><font color="#000000">Commenoz Gallery is proud to present a one woman show of new work from French artist Colette Birambo\, who will be flying in from Paris for the show and cocktail reception <span style="mso-spacerun: yes">&nbsp\;</span>on Thursday\, March 17 from 6 to 9pm at the Commenoz Gallery in the Galleria Shopping Mall.</font></span></span></span></p>\n<p class="MsoNormalCxSpMiddle" style="margin: 1em 0px 0pt\; mso-add-space: auto">\n	<span style="font-family: arial"><span style="font-size: 12px"><span style="mso-bidi-font-weight: bold"><font color="#000000">The show is entitled &quot\;Colette goes Tripping in The Tropics&quot\;<span style="mso-spacerun: yes">&nbsp\;&nbsp\;&nbsp\;&nbsp\;&nbsp\;&nbsp\;&nbsp\; </span></font></span></span></span></p>\n<p class="MsoNormalCxSpMiddle" style="margin: 1em 0px 0pt\; mso-add-space: auto">\n	<span style="font-family: arial"><span style="font-size: 12px"><span style="mso-bidi-font-weight: bold"><font color="#000000">A book of her photographs containing a limited edition has been published for this occasion.<span style="mso-spacerun: yes">&nbsp\; </span>A portion of the proceeds from this sale will benefit The American Cancer Society.</font></span></span></span></p>\n<p class="MsoNormalCxSpMiddle" style="margin: 1em 0px 0pt\; mso-add-space: auto">\n	<span style="font-family: arial"><span style="font-size: 12px"><span style="mso-bidi-font-weight: bold"><font color="#000000">Working and living in Paris\, Colette has created through her art a Universe of her own.<span style="mso-spacerun: yes">&nbsp\;&nbsp\; </span>Vivid colors found in tropical places fill her work.<span style="mso-spacerun: yes">&nbsp\; </span>By using her digital camera\, she chooses images that later she manipulates in her computer\, producing a collage effect of several images that gives us a new re-created reality. There are diverse shapes\, identifiable signs borrowed from many of the world&#39\;s cultures which bears witness to an insatiable curiosity.<span style="mso-spacerun: yes">&nbsp\; </span>There is an underlying element of discovery that fuels her art both mentally and technically.<span style="mso-spacerun: yes">&nbsp\; </span>In her own words:<span style="mso-spacerun: yes">&nbsp\;&nbsp\;&nbsp\; </span>&quot\;I See things through Colors\, Forms\, Rhythms\, Textures\, Always Looking for a space\, a ray of light&rdquo\;. Colette has been coming to Miami for the past 25 years\, fascinated by the light and colors that she finds in this city\, where she has snatched through her lens moments that cannot be reproduced.</font></span></span></span></p>\n<p class="MsoNormalCxSpMiddle" style="margin: 1em 0px 0pt\; mso-add-space: auto">\n	<span style="font-family: arial"><span style="font-size: 12px"><span style="mso-bidi-font-weight: bold"><font color="#000000">For further information contact Naydu Commenoz at (305) 361-7052</font></span></span></span></p>\n
LOCATION:Commenoz Gallery\, Second Floor\, Galleria Shopping Mall
UID:e.330.3310
SEQUENCE:3
DTSTAMP:20260421T202030Z
URL:https://business.keybiscaynechamber.org/events/details/commenoz-gallery-photo-exhibition-03-17-2011-3310
END:VEVENT

END:VCALENDAR
