BEGIN:VCALENDAR
VERSION:2.0
PRODID:-//ChamberMaster//Event Calendar 2.0//EN
METHOD:PUBLISH
X-PUBLISHED-TTL:P3D
REFRESH-INTERVAL:P3D
CALSCALE:GREGORIAN
BEGIN:VEVENT
DTSTART:20131010T220000Z
DTEND:20131108T020000Z
X-MICROSOFT-CDO-ALLDAYEVENT:FALSE
SUMMARY:Comenoz Gallery-The Colors of Money
DESCRIPTION:Naydu Commenoz request the pleasure\n\n	of your company at the exhibition\n\n	\n\n	The Colors of Money\n\n	\n\n	With the dollar bill as icon\n\n	SERGHEI MANOLIU\n\n	(1953) Bucharest\, Romania\n\n	\n\n	Reception:\n\n	Thursday\, October 10\, 2103\n\n	6-9 pm\n\n	Exhibition will continue through November 7th
X-ALT-DESC;FMTTYPE=text/html:<div style="text-align: center\;">\n	<span style="font-family:verdana\;">Naydu Commenoz request the pleasure<br />\n	of your company at the exhibition<br />\n	<br />\n	<span style="color:#800080\;"><span style="font-size: 16px\;">The Colors of Money</span></span><br />\n	<br />\n	With the dollar bill as icon<br />\n	SERGHEI MANOLIU<br />\n	(1953) Bucharest\, Romania</span><br />\n	<br />\n	Reception:<br />\n	<span style="background-color:#ffff00\;">Thursday\, October 10\, 2103</span><br />\n	<span style="background-color:#ffff00\;">6-9 pm</span><br />\n	<span style="background-color:#ffff00\;">Exhibition will continue through November </span><span style="background-color:#ffff00\;">7th</span><br />\n	&nbsp\;</div>\n
LOCATION:328 Crandon Blvd #218 Key Biscayne\, FL 33149
UID:e.330.4005
SEQUENCE:3
DTSTAMP:20260419T222800Z
URL:https://business.keybiscaynechamber.org/events/details/comenoz-gallery-the-colors-of-money-10-10-2013-4005
END:VEVENT

END:VCALENDAR
