BEGIN:VCALENDAR
VERSION:2.0
PRODID:-//ChamberMaster//Event Calendar 2.0//EN
METHOD:PUBLISH
X-PUBLISHED-TTL:P3D
REFRESH-INTERVAL:P3D
CALSCALE:GREGORIAN
BEGIN:VEVENT
DTSTART:20121013T130000Z
DTEND:20121013T170000Z
X-MICROSOFT-CDO-ALLDAYEVENT:FALSE
SUMMARY:Coldwell Banker Garage Sale
DESCRIPTION:Super Garage Sale\n\n\n\nSupport Coldwell Banker's Garage Sale.  All proceeds go to Coldwell Banker Cares Foundation supporting Miami Dade charities and Ronald McDonald House
X-ALT-DESC;FMTTYPE=text/html:<span style="font-size: 14px"><span style="color: #ff0000">Super Garage Sale<br />\n<br />\nSupport Coldwell Banker&#39\;s Garage Sale.&nbsp\; All proceeds go to Coldwell Banker Cares Foundation supporting Miami Dade charities and Ronald McDonald House</span></span>
LOCATION:The Galeria\, 328 Crandon Blvd #127 Key Biscayne\, FL
UID:e.330.3780
SEQUENCE:3
DTSTAMP:20260420T160444Z
URL:https://business.keybiscaynechamber.org/events/details/coldwell-banker-garage-sale-10-13-2012-3780
END:VEVENT

END:VCALENDAR
