BEGIN:VCALENDAR
VERSION:2.0
PRODID:-//ChamberMaster//Event Calendar 2.0//EN
METHOD:PUBLISH
X-PUBLISHED-TTL:P3D
REFRESH-INTERVAL:P3D
CALSCALE:GREGORIAN
BEGIN:VEVENT
DTSTART:20250626T233000Z
DTEND:20250630T013000Z
X-MICROSOFT-CDO-ALLDAYEVENT:FALSE
SUMMARY:City Theatre's Summer Shorts Festival
DESCRIPTION:Summer Shorts Festival Hosted by Rhonda Sanchez\n\nIf you can't beat 'em\, mock 'em.\n\nJune 26   29\, 2025\n\n \n\nPresented by City Theatre in collaboration with Villain Theater.\n\n \n\nThis year's Summer Shorts Festival Hosted by Rhonda Sanchez delivers 20 bold\, hilarious\, and thought-provoking ten-minute plays across four unforgettable\n\nperformances. Each show features a different mix of five short works\, read live by a rotating cast\, with live music and one unforgettable host: Rhonda Sanchez. Rhonda\, a fictional character created for the festival\, is our rhinestoned\, sharp-tongued response to the moment and a patriotic parody-in-residence who delivers satire with a wink and a side-eye.\n\n \n\nAudiences can join us for a single evening ($25) or experience the full arc of the festival with a four-show pass ($80). Each night features a unique lineup of five short plays so\n\nwhether you come once or come for all\, you won't see the same show twice. A limited number of VIP tickets ($40) are available each night\, which include up-front cabaret-\n\nstyle seating and Rhonda's signature cocktail\, "Red\, White\, and Boozy."\n\n \n\nProceeds from the festival support City Theatre's Defunded Not Defeated fund\, ensuring that short-form theatre and the artists behind it continue to thrive in the face\n\nof rising costs and reduced public support. Interested patrons should buy tickets before the show sells out   or gets banned.\n\n \n\nADA Accommodations: It is our policy to comply with all of the requirements of the Americans with Disabilities Act. To request materials in accessible format\, and/or any accommodation to attend any Fantasy Theatre Factory event\, please contact Evelyn Sullivan\, 305-284-8800\, evelyn@ftfshows.com\, at least five (5) days in advance to initiate your request\, TTY users may also call 711 (Florida Relay Service).\n\n \n\nFor more information contact the Box Office at 305-284-8872 or boxoffice@ftfshows.com.
X-ALT-DESC;FMTTYPE=text/html:&nbsp\;\n<p font-size:="" open="" style="box-sizing: border-box\; margin: 0px\; padding: 0px\; color: rgb(0\, 0\, 0)\; font-family: "><span style="font-size:16px\;"><span style="font-family:arial\;">Summer Shorts Festival Hosted by Rhonda Sanchez</span></span></p>\n\n<p font-size:="" open="" style="box-sizing: border-box\; margin: 0px\; padding: 0px\; color: rgb(0\, 0\, 0)\; font-family: "><span style="font-size:16px\;"><span style="font-family:arial\;">If you can&rsquo\;t beat &lsquo\;em\, mock &lsquo\;em.</span></span></p>\n\n<p font-size:="" open="" style="box-sizing: border-box\; margin: 0px\; padding: 0px\; color: rgb(0\, 0\, 0)\; font-family: "><span style="font-size:16px\;"><span style="font-family:arial\;">June 26 &ndash\; 29\, 2025</span></span></p>\n\n<p font-size:="" open="" style="box-sizing: border-box\; margin: 0px\; padding: 0px\; color: rgb(0\, 0\, 0)\; font-family: ">&nbsp\;</p>\n\n<p font-size:="" open="" style="box-sizing: border-box\; margin: 0px\; padding: 0px\; color: rgb(0\, 0\, 0)\; font-family: "><span style="font-size:16px\;"><span style="font-family:arial\;">Presented by City Theatre in collaboration with Villain Theater.</span></span></p>\n\n<p font-size:="" open="" style="box-sizing: border-box\; margin: 0px\; padding: 0px\; color: rgb(0\, 0\, 0)\; font-family: ">&nbsp\;</p>\n\n<p font-size:="" open="" style="box-sizing: border-box\; margin: 0px\; padding: 0px\; color: rgb(0\, 0\, 0)\; font-family: "><span style="font-size:16px\;"><span style="font-family:arial\;">This year&rsquo\;s Summer Shorts Festival Hosted by Rhonda Sanchez delivers 20 bold\, hilarious\, and thought-provoking ten-minute plays across four unforgettable</span></span></p>\n\n<p font-size:="" open="" style="box-sizing: border-box\; margin: 0px\; padding: 0px\; color: rgb(0\, 0\, 0)\; font-family: "><span style="font-size:16px\;"><span style="font-family:arial\;">performances. Each show features a different mix of five short works\, read live by a rotating cast\, with live music and one unforgettable host: Rhonda Sanchez. Rhonda\, a fictional character created for the festival\, is our rhinestoned\, sharp-tongued response to the moment and a patriotic parody-in-residence who delivers satire with a wink and a side-eye.</span></span></p>\n\n<p font-size:="" open="" style="box-sizing: border-box\; margin: 0px\; padding: 0px\; color: rgb(0\, 0\, 0)\; font-family: ">&nbsp\;</p>\n\n<p font-size:="" open="" style="box-sizing: border-box\; margin: 0px\; padding: 0px\; color: rgb(0\, 0\, 0)\; font-family: "><span style="font-size:16px\;"><span style="font-family:arial\;">Audiences can join us for a single evening ($25) or experience the full arc of the festival with a four-show pass ($80). Each night features a unique lineup of five short plays so</span></span></p>\n\n<p font-size:="" open="" style="box-sizing: border-box\; margin: 0px\; padding: 0px\; color: rgb(0\, 0\, 0)\; font-family: "><span style="font-size:16px\;"><span style="font-family:arial\;">whether you come once or come for all\, you won&rsquo\;t see the same show twice. A limited number of&nbsp\;<span class="caps" style="box-sizing: border-box\;">VIP</span>&nbsp\;tickets ($40) are available each night\, which include up-front cabaret-</span></span></p>\n\n<p font-size:="" open="" style="box-sizing: border-box\; margin: 0px\; padding: 0px\; color: rgb(0\, 0\, 0)\; font-family: "><span style="font-size:16px\;"><span style="font-family:arial\;">style seating and Rhonda&rsquo\;s signature cocktail\, &ldquo\;Red\, White\, and Boozy.&rdquo\;</span></span></p>\n\n<p font-size:="" open="" style="box-sizing: border-box\; margin: 0px\; padding: 0px\; color: rgb(0\, 0\, 0)\; font-family: ">&nbsp\;</p>\n\n<p font-size:="" open="" style="box-sizing: border-box\; margin: 0px\; padding: 0px\; color: rgb(0\, 0\, 0)\; font-family: "><span style="font-size:16px\;"><span style="font-family:arial\;">Proceeds from the festival support City Theatre&rsquo\;s Defunded Not Defeated fund\, ensuring that short-form theatre&mdash\;and the artists behind it&mdash\;continue to thrive in the face</span></span></p>\n\n<p font-size:="" open="" style="box-sizing: border-box\; margin: 0px\; padding: 0px\; color: rgb(0\, 0\, 0)\; font-family: "><span style="font-size:16px\;"><span style="font-family:arial\;">of rising costs and reduced public support. Interested patrons should buy tickets before the show sells out &ndash\; or gets banned.</span></span></p>\n\n<p font-size:="" open="" style="box-sizing: border-box\; margin: 0px\; padding: 0px\; color: rgb(0\, 0\, 0)\; font-family: ">&nbsp\;</p>\n\n<p font-size:="" open="" style="box-sizing: border-box\; margin: 0px\; padding: 0px\; color: rgb(0\, 0\, 0)\; font-family: "><span style="font-size:16px\;"><span style="font-family:arial\;"><span class="caps" style="box-sizing: border-box\;">ADA</span>&nbsp\;Accommodations: It is our policy to comply with all of the requirements of the Americans with Disabilities Act. To request materials in accessible format\, and/or any accommodation to attend any Fantasy Theatre Factory event\, please contact Evelyn Sullivan\, 305-284-8800\,&nbsp\;<a href="mailto:evelyn@ftfshows.com" rel="noopener noreferrer" style="box-sizing: border-box\; color: var(--link-color)\; text-decoration-line: none\; background-color: transparent\; outline: none !important\;" target="_blank">evelyn@ftfshows.com</a>\, at least five (5) days in advance to initiate your request\,&nbsp\;TTY&nbsp\;users may also call 711 (Florida Relay Service).</span></span></p>\n\n<p font-size:="" open="" style="box-sizing: border-box\; margin: 0px\; padding: 0px\; color: rgb(0\, 0\, 0)\; font-family: ">&nbsp\;</p>\n\n<div style="box-sizing: border-box\; margin: 0px\; padding: 0px\; color: rgb(0\, 0\, 0)\; font-family: "><span style="font-size:16px\;"><span style="font-family:arial\;">For more information contact the Box Office at 305-284-8872 or <a href="mailto:boxoffice@ftfshows.com?subject=Summer%20Shorts"><span font-size:="" open="" style="color: rgb(0\, 0\, 0)\; font-family: ">boxoffice@ftfshows.com</span></a>.</span></span></div>\n
LOCATION:Sandrell Rivers Theater
UID:e.330.23107
SEQUENCE:3
DTSTAMP:20260425T033044Z
URL:https://business.keybiscaynechamber.org/events/details/city-theatre-s-summer-shorts-festival-23107
END:VEVENT

END:VCALENDAR
