BEGIN:VCALENDAR
VERSION:2.0
PRODID:-//ChamberMaster//Event Calendar 2.0//EN
METHOD:PUBLISH
X-PUBLISHED-TTL:P3D
REFRESH-INTERVAL:P3D
CALSCALE:GREGORIAN
BEGIN:VEVENT
DTSTART:20260110T220000Z
DTEND:20260110T233000Z
X-MICROSOFT-CDO-ALLDAYEVENT:FALSE
SUMMARY:City Reads: New Beginnings
DESCRIPTION:Join us as professional actors read four fast and funny short plays exploring stories especially picked out for the Key Biscayne community! After the readings\, stick around for a lively community conversation where we'll dive into the plays and themes.\n\n\n\nHosted at the Village Hall Turtle Fountain\, the evening features short plays exploring endings that spark something new\, moments of change\, and the risk of starting over.\n\n\n\nThe program includes live readings by professional actors\, music\, and a moderated audience conversation.
X-ALT-DESC;FMTTYPE=text/html:<br />\n<span style="font-size:16px\;"><span style="font-family:arial\;"><span font-size:="" font-weight:="" helvetica="" letter-spacing:="" neue="" style="color: rgb(57\, 54\, 79)\; font-family: ">Join us as professional actors read four fast and funny short plays exploring stories especially picked out for the Key Biscayne community! After the readings\, stick around for a lively community conversation where we&#39\;ll dive into the plays and themes.</span><br />\n<br />\nHosted at the Village Hall Turtle Fountain\, the evening features short plays exploring endings that spark something new\, moments of change\, and the risk of starting over.<br />\n<br />\nThe program includes live readings by professional actors\, music\, and a moderated audience conversation.</span></span>
LOCATION:Village Hall Turtle Fountain
UID:e.330.23315
SEQUENCE:3
DTSTAMP:20260424T193850Z
URL:https://business.keybiscaynechamber.org/events/details/city-reads-short-play-readings-23315
END:VEVENT

END:VCALENDAR
