BEGIN:VCALENDAR
VERSION:2.0
PRODID:-//ChamberMaster//Event Calendar 2.0//EN
METHOD:PUBLISH
X-PUBLISHED-TTL:P3D
REFRESH-INTERVAL:P3D
CALSCALE:GREGORIAN
BEGIN:VEVENT
DTSTART:20140508T230000Z
DTEND:20140509T000000Z
X-MICROSOFT-CDO-ALLDAYEVENT:FALSE
SUMMARY:Citizen Science Project Community Presentation
DESCRIPTION:
X-ALT-DESC;FMTTYPE=text/html:
LOCATION:10 Village Green Way \, Free Admission Adult Lounge 2nd Floor Open to public and register at front desk
UID:e.330.4105
SEQUENCE:3
DTSTAMP:20260419T120938Z
URL:https://business.keybiscaynechamber.org/events/details/citizen-science-project-community-presentation-05-08-2014-4105
END:VEVENT

END:VCALENDAR
