BEGIN:VCALENDAR
VERSION:2.0
PRODID:-//ChamberMaster//Event Calendar 2.0//EN
METHOD:PUBLISH
X-PUBLISHED-TTL:P3D
REFRESH-INTERVAL:P3D
CALSCALE:GREGORIAN
BEGIN:VEVENT
DTSTART:20110506T000000Z
DTEND:20110506T035500Z
X-MICROSOFT-CDO-ALLDAYEVENT:FALSE
SUMMARY:Cinco de Mayo at The Ibis Lounge
DESCRIPTION:Celbrate Cinco de Mayo The Ibis Lounge style\n\nMexican beer specials\n\nCuervo Margarita specials\n\nlive DJ\n\ndress in the spirit and receive a free coozie
X-ALT-DESC;FMTTYPE=text/html:Celbrate Cinco de Mayo The Ibis Lounge style\n<br>Mexican beer specials\n<br>Cuervo Margarita specials\n<br>live DJ\n<br>dress in the spirit and receive a free coozie
LOCATION:The Ibis Lounge 200 Crandon Blvd #101 Key Biscayne\, Fl 33149
UID:e.330.3366
SEQUENCE:3
DTSTAMP:20260421T172455Z
URL:https://business.keybiscaynechamber.org/events/details/cinco-de-mayo-at-the-ibis-lounge-05-05-2011-3366
END:VEVENT

END:VCALENDAR
