BEGIN:VCALENDAR
VERSION:2.0
PRODID:-//ChamberMaster//Event Calendar 2.0//EN
METHOD:PUBLISH
X-PUBLISHED-TTL:P3D
REFRESH-INTERVAL:P3D
CALSCALE:GREGORIAN
BEGIN:VEVENT
DTSTART:20110505T230000Z
DTEND:20110506T020000Z
X-MICROSOFT-CDO-ALLDAYEVENT:FALSE
SUMMARY:Cinco de Mayo at Cantina Beach
DESCRIPTION:
X-ALT-DESC;FMTTYPE=text/html:
LOCATION:Cantina Beach\, Ritz-Carlton Key Biscayne\, 455 Grand Bay Drive.
UID:e.330.3365
SEQUENCE:3
DTSTAMP:20260421T172310Z
URL:https://business.keybiscaynechamber.org/events/details/cinco-de-mayo-at-cantina-beach-05-05-2011-3365
END:VEVENT

END:VCALENDAR
