BEGIN:VCALENDAR
VERSION:2.0
PRODID:-//ChamberMaster//Event Calendar 2.0//EN
METHOD:PUBLISH
X-PUBLISHED-TTL:P3D
REFRESH-INTERVAL:P3D
CALSCALE:GREGORIAN
BEGIN:VEVENT
DTSTART:20131222T150000Z
DTEND:20131222T161500Z
X-MICROSOFT-CDO-ALLDAYEVENT:FALSE
SUMMARY:Christmas Worship Celebration at Key Biscayne Presbyterian Church
DESCRIPTION:A variety of special Christmas music will make for a very joyful celebration of the Savior's birth
X-ALT-DESC;FMTTYPE=text/html:A variety of special Christmas music will make for a very joyful celebration of the Savior&#39\;s birth
LOCATION:Key Biscayne Presbyterian Church 160 Harbor Drive
UID:e.330.4037
SEQUENCE:3
DTSTAMP:20260419T192040Z
URL:https://business.keybiscaynechamber.org/events/details/christmas-worship-celebration-at-key-biscayne-presbyterian-church-12-22-2013-4037
END:VEVENT

END:VCALENDAR
