BEGIN:VCALENDAR
VERSION:2.0
PRODID:-//ChamberMaster//Event Calendar 2.0//EN
METHOD:PUBLISH
X-PUBLISHED-TTL:P3D
REFRESH-INTERVAL:P3D
CALSCALE:GREGORIAN
BEGIN:VEVENT
DTSTART:20131225T000000Z
DTEND:20131225T011500Z
X-MICROSOFT-CDO-ALLDAYEVENT:FALSE
SUMMARY:Christmas Eve Candlelight Service at Key Biscayne Presbyterian Church
DESCRIPTION:Come with the whole family to a beautiful\, traditional Christmas Eve service that highlights beautiful music and the lighting of candles\, as we contemplate the wonder of our Savior's birth.
X-ALT-DESC;FMTTYPE=text/html:<style type="text/css">\n<!--\n /* Font Definitions */\n@font-face\n	{font-family:"MS ??"\;\n	mso-font-charset:78\;\n	mso-generic-font-family:auto\;\n	mso-font-pitch:variable\;\n	mso-font-signature:-536870145 1791491579 18 0 131231 0\;}\n@font-face\n	{font-family:"Cambria Math"\;\n	panose-1:2 4 5 3 5 4 6 3 2 4\;\n	mso-font-charset:0\;\n	mso-generic-font-family:auto\;\n	mso-font-pitch:variable\;\n	mso-font-signature:-536870145 1107305727 0 0 415 0\;}\n@font-face\n	{font-family:Calibri\;\n	panose-1:2 15 5 2 2 2 4 3 2 4\;\n	mso-font-charset:0\;\n	mso-generic-font-family:auto\;\n	mso-font-pitch:variable\;\n	mso-font-signature:-520092929 1073786111 9 0 415 0\;}\n@font-face\n	{font-family:Cambria\;\n	panose-1:2 4 5 3 5 4 6 3 2 4\;\n	mso-font-charset:0\;\n	mso-generic-font-family:auto\;\n	mso-font-pitch:variable\;\n	mso-font-signature:-536870145 1073743103 0 0 415 0\;}\n /* Style Definitions */\np.MsoNormal\, li.MsoNormal\, div.MsoNormal\n	{mso-style-unhide:no\;\n	mso-style-qformat:yes\;\n	mso-style-parent:""\;\n	margin:0in\;\n	margin-bottom:.0001pt\;\n	mso-pagination:widow-orphan\;\n	font-size:12.0pt\;\n	font-family:Cambria\;\n	mso-fareast-font-family:"MS ??"\;\n	mso-bidi-font-family:"Times New Roman"\;\n	mso-fareast-language:JA\;}\n.MsoChpDefault\n	{mso-style-type:export-only\;\n	mso-default-props:yes\;\n	font-size:10.0pt\;\n	mso-ansi-font-size:10.0pt\;\n	mso-bidi-font-size:10.0pt\;\n	font-family:Cambria\;\n	mso-ascii-font-family:Cambria\;\n	mso-fareast-font-family:"MS ??"\;\n	mso-hansi-font-family:Cambria\;}\n@page WordSection1\n	{size:8.5in 11.0in\;\n	margin:1.0in 1.25in 1.0in 1.25in\;\n	mso-header-margin:.5in\;\n	mso-footer-margin:.5in\;\n	mso-paper-source:0\;}\ndiv.WordSection1\n	{page:WordSection1\;}\n--></style>\n<i><span style="font-size:16.0pt\;font-family:Calibri\;\nmso-ascii-theme-font:major-latin\;mso-fareast-font-family:&quot\;MS ??&quot\;\;mso-hansi-theme-font:\nmajor-latin\;mso-bidi-font-family:&quot\;Times New Roman&quot\;\;mso-ansi-language:EN-US\;\nmso-fareast-language:JA\;mso-bidi-language:AR-SA">Come with the whole family to a beautiful\, traditional Christmas Eve service that highlights beautiful music and the lighting of candles\, as we contemplate the wonder of our Savior&#39\;s birth.</span></i> 
LOCATION:Key Biscayne Presbyterian Church 160 Harbor Drive
UID:e.330.4038
SEQUENCE:3
DTSTAMP:20260419T204431Z
URL:https://business.keybiscaynechamber.org/events/details/christmas-eve-candlelight-service-at-key-biscayne-presbyterian-church-12-24-2013-4038
END:VEVENT

END:VCALENDAR
