BEGIN:VCALENDAR
VERSION:2.0
PRODID:-//ChamberMaster//Event Calendar 2.0//EN
METHOD:PUBLISH
X-PUBLISHED-TTL:P3D
REFRESH-INTERVAL:P3D
CALSCALE:GREGORIAN
BEGIN:VEVENT
DTSTART:20120303T220000Z
DTEND:20120304T010000Z
X-MICROSOFT-CDO-ALLDAYEVENT:FALSE
SUMMARY:Chilean Wine Tasting at Stefano's Wine & Liquor
DESCRIPTION:Chilean Wine Tasting:\n\n\n\nCasa del Bosque\n\n\n\nCabernet Savignon & Savignon Blanc
X-ALT-DESC;FMTTYPE=text/html:Chilean Wine Tasting:<br />\n<br />\nCasa del Bosque<br />\n<br />\nCabernet Savignon &amp\; Savignon Blanc
LOCATION:Stefanos WIne & Liquor
UID:e.330.3600
SEQUENCE:3
DTSTAMP:20260421T032331Z
URL:https://business.keybiscaynechamber.org/events/details/chilean-wine-tasting-at-stefano-s-wine-liquor-03-03-2012-3600
END:VEVENT

END:VCALENDAR
