BEGIN:VCALENDAR
VERSION:2.0
PRODID:-//ChamberMaster//Event Calendar 2.0//EN
METHOD:PUBLISH
X-PUBLISHED-TTL:P3D
REFRESH-INTERVAL:P3D
CALSCALE:GREGORIAN
BEGIN:VEVENT
DTSTART:20130720T214500Z
DTEND:20130720T230000Z
X-MICROSOFT-CDO-ALLDAYEVENT:FALSE
SUMMARY:Childrens Theater Performance
DESCRIPTION:As part of the 28th International Hispanic Theatre Festival\, Guepaje\, written and directed by Ciro Gomez Acevedo\, will be presented at 5:45 pm on Saturday\, July 20 at the Key Biscayne Community Center.  This event is sponsored by the Village of Key Biscayne\, the Key Biscayne Community Foundation and the Key Biscayne Community Center.
X-ALT-DESC;FMTTYPE=text/html:<div style="color: gray">\n	<span style="font-size: 10pt"><span style="color: black"><span style="font-family: arial\, sans-serif">As part of the 28<sup>th</sup> International Hispanic Theatre Festival\, Guepaje\, written and directed by Ciro Gomez Acevedo\, will be presented at 5:45 pm on Saturday\, July 20 at the Key Biscayne Community Center.&nbsp\; This event is sponsored by the Village of Key Biscayne\, the Key Biscayne Community Foundation and the Key Biscayne Community Center.</span></span></span><br />\n	&nbsp\;</div>\n
LOCATION:The Key Biscayne Community Center
UID:e.330.3945
SEQUENCE:3
DTSTAMP:20260420T025503Z
URL:https://business.keybiscaynechamber.org/events/details/childrens-theater-performance-07-20-2013-3945
END:VEVENT

END:VCALENDAR
