BEGIN:VCALENDAR
VERSION:2.0
PRODID:-//ChamberMaster//Event Calendar 2.0//EN
METHOD:PUBLISH
X-PUBLISHED-TTL:P3D
REFRESH-INTERVAL:P3D
CALSCALE:GREGORIAN
BEGIN:VEVENT
DTSTART:20131215T150000Z
DTEND:20131215T161500Z
X-MICROSOFT-CDO-ALLDAYEVENT:FALSE
SUMMARY:Children's Christmas Celebration
DESCRIPTION:The KBPC church and school children will lead a joyful Christmas celebration with Christmas carols\, readings of the Christmas narrative\, and much more.  Everyone is invited!
X-ALT-DESC;FMTTYPE=text/html:The KBPC church and school children will lead a joyful Christmas celebration with Christmas carols\, readings of the Christmas narrative\, and much more.&nbsp\; Everyone is invited!
LOCATION:Key Biscayne Presbyterian Church 160 Harbor Drive
UID:e.330.4036
SEQUENCE:3
DTSTAMP:20260419T191211Z
URL:https://business.keybiscaynechamber.org/events/details/children-s-christmas-celebration-12-15-2013-4036
END:VEVENT

END:VCALENDAR
