BEGIN:VCALENDAR
VERSION:2.0
PRODID:-//ChamberMaster//Event Calendar 2.0//EN
METHOD:PUBLISH
X-PUBLISHED-TTL:P3D
REFRESH-INTERVAL:P3D
CALSCALE:GREGORIAN
BEGIN:VEVENT
DTSTART:20121117T190000Z
DTEND:20121117T210000Z
X-MICROSOFT-CDO-ALLDAYEVENT:FALSE
SUMMARY:CHAMPAGNE WEEKEND TASTING
DESCRIPTION:Saturday: 2pm to 4pm\n\n\n\nKrug Grand Cuvee Champagne Tasting:\n\n\n\nMeet Master Sommelier Ian Cauble brand ambassador to the Krug Champagne Family\n\n\n\n\n\nSaturday: 5PM TO 8PM\n\n\n\nExclusive Veuve Cliquot Vintage Champagme Tasting:\n\nVisit and sample the very Best Vintages of Veuve Cliquot\n\n\n\nRose Cuvee 1989\n\nBrut Cuvee 1990\n\nLa Grande Dame
X-ALT-DESC;FMTTYPE=text/html:<u><strong>Saturday: 2pm to 4pm</strong></u><br />\n<br />\nKrug Grand Cuvee Champagne Tasting:<br />\n<br />\nMeet Master Sommelier Ian Cauble brand ambassador to the Krug Champagne Family<br />\n<br />\n<br />\n<u><strong>Saturday: 5PM TO 8PM</strong></u><br />\n<br />\nExclusive Veuve Cliquot Vintage Champagme Tasting:<br />\nVisit and sample the very Best Vintages of Veuve Cliquot<br />\n<br />\nRose Cuvee 1989<br />\nBrut Cuvee 1990<br />\nLa Grande Dame<br />\n
LOCATION:Stefano's Wine & Liquor
UID:e.330.3805
SEQUENCE:3
DTSTAMP:20260420T161654Z
URL:https://business.keybiscaynechamber.org/events/details/champagne-weekend-tasting-11-17-2012-3805
END:VEVENT

END:VCALENDAR
