BEGIN:VCALENDAR
VERSION:2.0
PRODID:-//ChamberMaster//Event Calendar 2.0//EN
METHOD:PUBLISH
X-PUBLISHED-TTL:P3D
REFRESH-INTERVAL:P3D
CALSCALE:GREGORIAN
BEGIN:VEVENT
DTSTART:20121116T220000Z
DTEND:20121117T010000Z
X-MICROSOFT-CDO-ALLDAYEVENT:FALSE
SUMMARY:CHAMPAGNE WEEKEND TASTING
DESCRIPTION:Friday:\n\n\n\nFrench Champagne Tasting:\n\n\n\nRuinart Champagne\n\n\n\nBrut & Rose champagne will be served.
X-ALT-DESC;FMTTYPE=text/html:<strong>Friday:<br />\n<br />\nFrench Champagne Tasting:<br />\n<br />\nRuinart Champagne<br />\n<br />\nBrut &amp\; Rose champagne will be served.</strong><br />\n
LOCATION:Stefano's Wine & Liquor
UID:e.330.3804
SEQUENCE:3
DTSTAMP:20260420T145206Z
URL:https://business.keybiscaynechamber.org/events/details/champagne-weekend-tasting-11-16-2012-3804
END:VEVENT

END:VCALENDAR
