BEGIN:VCALENDAR
VERSION:2.0
PRODID:-//ChamberMaster//Event Calendar 2.0//EN
METHOD:PUBLISH
X-PUBLISHED-TTL:P3D
REFRESH-INTERVAL:P3D
CALSCALE:GREGORIAN
BEGIN:VEVENT
DTSTART:20121214T220000Z
DTEND:20121215T010000Z
X-MICROSOFT-CDO-ALLDAYEVENT:FALSE
SUMMARY:CHAMPAGNE TASTING
DESCRIPTION:Veuve Cliquot Vintage Tasting
X-ALT-DESC;FMTTYPE=text/html:<span style="font-size: 18px">Veuve Cliquot Vintage Tasting</span>
LOCATION:STEFANO'S WINE & LIQUOR AT THE GALLERIA MALL
UID:e.330.3826
SEQUENCE:3
DTSTAMP:20260420T132455Z
URL:https://business.keybiscaynechamber.org/events/details/champagne-tasting-12-14-2012-3826
END:VEVENT

END:VCALENDAR
