BEGIN:VCALENDAR
VERSION:2.0
PRODID:-//ChamberMaster//Event Calendar 2.0//EN
METHOD:PUBLISH
X-PUBLISHED-TTL:P3D
REFRESH-INTERVAL:P3D
CALSCALE:GREGORIAN
BEGIN:VEVENT
DTSTART:20121215T220000Z
DTEND:20121216T010000Z
X-MICROSOFT-CDO-ALLDAYEVENT:FALSE
SUMMARY:CHAMPAGNE & RUM TASTING
DESCRIPTION:Perrier Joet Champagne\n\n\n\nRon Atlantico   Reserva
X-ALT-DESC;FMTTYPE=text/html:<span style="font-size: 18px">Perrier Joet Champagne<br />\n<br />\nRon Atlantico &ndash\; Reserva</span><br />\n
LOCATION:STEFANO'S WINE & LIQUOR AT THE GALLERIA MALL
UID:e.330.3827
SEQUENCE:3
DTSTAMP:20260420T145331Z
URL:https://business.keybiscaynechamber.org/events/details/champagne-rum-tasting-12-15-2012-3827
END:VEVENT

END:VCALENDAR
