BEGIN:VCALENDAR
VERSION:2.0
PRODID:-//ChamberMaster//Event Calendar 2.0//EN
METHOD:PUBLISH
X-PUBLISHED-TTL:P3D
REFRESH-INTERVAL:P3D
CALSCALE:GREGORIAN
BEGIN:VEVENT
DTSTART;VALUE=DATE:20111108
DTEND;VALUE=DATE:20111109
TRANSP:TRANSPARENT
X-MICROSOFT-CDO-ALLDAYEVENT:TRUE
SUMMARY:Champagne Lanson Seminar & Tasting
DESCRIPTION:The Key Biscayne Community Center and Stefano's Wine & Liquor\, warmly invites our residents of the Village of Key Biscayne to an Exclusive Champagne Educational Seminar & Champagne LANSON tasting led by ENGUERRAND BAIJOT Brand Director of Champagne LANSON.\n\n\n\nTuesday\, November 8th\n\n\n\n7:30pm to 9:30pm\n\n\n\n\n\n$5/person\, 21 and over only. Registration is required at the front desk.
X-ALT-DESC;FMTTYPE=text/html:<span style="color: #0000cd"><span style="font-size: 16px">The Key Biscayne Community Center and Stefano&#39\;s Wine &amp\; Liquor\, warmly invites our residents of the Village of Key Biscayne to an Exclusive Champagne Educational Seminar &amp\; Champagne LANSON tasting led by ENGUERRAND BAIJOT Brand Director of Champagne LANSON.<br />\n<br />\nTuesday\, November 8th<br />\n<br />\n7:30pm to 9:30pm</span></span><br />\n<br />\n<br />\n<span style="font-size: 14px"><span style="color: #0000cd">$5/person\, 21 and over only. Registration is required at the front desk.</span></span><br />\n
LOCATION:Village of Key Biscayne Community Center
UID:e.330.3497
SEQUENCE:3
DTSTAMP:20260421T090136Z
URL:https://business.keybiscaynechamber.org/events/details/champagne-lanson-seminar-tasting-11-08-2011-3497
END:VEVENT

END:VCALENDAR
