BEGIN:VCALENDAR
VERSION:2.0
PRODID:-//ChamberMaster//Event Calendar 2.0//EN
METHOD:PUBLISH
X-PUBLISHED-TTL:P3D
REFRESH-INTERVAL:P3D
CALSCALE:GREGORIAN
BEGIN:VEVENT
DTSTART:20121221T220000Z
DTEND:20121222T010000Z
X-MICROSOFT-CDO-ALLDAYEVENT:FALSE
SUMMARY:CHAMPAGNE & CACACHA TASTING!
DESCRIPTION:Champagne Tasting: Laurent Perrier Rose\n\n\n\nCacacha Moleca- Tasting: Caipirinas and Daiquris will be served!\n\n\n\nVodka Tasting : Ciroc Vodka
X-ALT-DESC;FMTTYPE=text/html:<span style="font-size: 16px">Champagne Tasting: Laurent Perrier Rose<br />\n<br />\nCacacha Moleca- Tasting: Caipirinas and Daiquris will be served!<br />\n<br />\nVodka Tasting : Ciroc Vodka</span><br />\n
LOCATION:STEFANO?S WINE & LIQUOR AT THE GALLERIA MALL
UID:e.330.3829
SEQUENCE:3
DTSTAMP:20260420T145403Z
URL:https://business.keybiscaynechamber.org/events/details/champagne-cacacha-tasting-12-21-2012-3829
END:VEVENT

END:VCALENDAR
