BEGIN:VCALENDAR
VERSION:2.0
PRODID:-//ChamberMaster//Event Calendar 2.0//EN
METHOD:PUBLISH
X-PUBLISHED-TTL:P3D
REFRESH-INTERVAL:P3D
CALSCALE:GREGORIAN
BEGIN:VEVENT
DTSTART:20110920T160000Z
DTEND:20110920T170000Z
X-MICROSOFT-CDO-ALLDAYEVENT:FALSE
SUMMARY:Chamber Networking Luncheon
DESCRIPTION:The Chamber organizes a Networking Luncheon at selected Key Biscayne restaurants every third Tuesday of each month. This is an excellent opportunity to meet and network with your Chamber colleagues in an informal setting.\n\n\n\nYou pay for your own meal and order whatever you would like from the menu. There are no additional charges to attend. For further information please contact Membership Committee Chair Robert Duzoglou at senseirobert@rdcamma.com
X-ALT-DESC;FMTTYPE=text/html:<span _mce_style="font-family: 'Arial'\, 'sans-serif'\; color: #000000\; font-size: 10pt\;" style="font-family: 'arial'\, 'sans-serif'\; color: #000000\; font-size: 10pt"><span style="font-size: 12px"><span style="font-family: arial"><font color="#000000">The&nbsp\;Chamber&nbsp\;organizes&nbsp\;a Networking Luncheon at selected Key Biscayne restaurants</font></span></span></span><span _mce_style="font-family: 'Arial'\, 'sans-serif'\; color: #000000\; font-size: 10pt\;" style="font-family: 'arial'\, 'sans-serif'\; color: #000000\; font-size: 10pt"><span style="font-size: 12px"><span style="font-family: arial"><font color="#000000"> every third Tuesday of&nbsp\;each month. This is an excellent opportunity to meet and network with your Chamber colleagues in an informal setting.</font></span></span></span><br />\n<br />\n<span style="font-size: 12px"><span _mce_style="font-family: 'Arial'\, 'sans-serif'\; color: #000000\; font-size: 10pt\;" style="font-family: 'arial'\, 'sans-serif'\; color: #000000"><font color="#000000">You pay for your own meal and order whatever you would like from the menu. There are no additional charges to attend. For further information please contact Membership Committee Chair Robert Duzoglou at <font color="#000000"><a href="mailto:senseirobert@rdcamma.com">senseirobert@rdcamma.com</a></font></font></span></span><br />\n<br />\n<span _mce_style="font-family: 'Arial'\, 'sans-serif'\; color: #000000\; font-size: 10pt\;" style="font-family: 'arial'\, 'sans-serif'\; color: #000000\; font-size: 10pt"><span style="font-size: 12px"><font color="#000000"><span _fck_bookmark="1" style="display: none">&nbsp\;</span></font></span></span>
LOCATION:The Golden Hog\, 91 Harbor Drive\, Key Biscayne FL 33149
UID:e.330.3456
SEQUENCE:3
DTSTAMP:20260421T115339Z
URL:https://business.keybiscaynechamber.org/events/details/chamber-networking-luncheon-09-20-2011-3456
END:VEVENT

END:VCALENDAR
