BEGIN:VCALENDAR
VERSION:2.0
PRODID:-//ChamberMaster//Event Calendar 2.0//EN
METHOD:PUBLISH
X-PUBLISHED-TTL:P3D
REFRESH-INTERVAL:P3D
CALSCALE:GREGORIAN
BEGIN:VEVENT
DTSTART:20110719T160000Z
DTEND:20110719T170000Z
X-MICROSOFT-CDO-ALLDAYEVENT:FALSE
SUMMARY:Chamber Networking Luncheon
DESCRIPTION:The Chamber organizes a Networking Luncheon at selected Key Biscayne restaurants every third Tuesday of each month. This is an excellent opportunity to meet and network with your Chamber colleagues in an informal setting.\n\n\n\nThe next Chamber Networking Luncheon will be held on Tuesday July 19 at Ayesha at the Galleria Mall\, 328 Crandon Boulevard Suite 115 at noon. You pay for your own meal and order whatever you would like from the menu. There are no additional charges to attend. For further information please contact Membership Committee Chair Robert Duzoglou at rddcorp@aol.com
X-ALT-DESC;FMTTYPE=text/html:<span _mce_style="font-family: 'Arial'\, 'sans-serif'\; color: #000000\; font-size: 10pt\;" style="font-family: 'arial'\, 'sans-serif'\; color: #000000\; font-size: 10pt"><span style="font-size: 12px"><span style="font-family: arial"><font color="#000000">The&nbsp\;Chamber&nbsp\;organizes&nbsp\;a Networking Luncheon at selected Key Biscayne restaurants</font></span></span></span><span _mce_style="font-family: 'Arial'\, 'sans-serif'\; color: #000000\; font-size: 10pt\;" style="font-family: 'arial'\, 'sans-serif'\; color: #000000\; font-size: 10pt"><span style="font-size: 12px"><span style="font-family: arial"><font color="#000000"> every third Tuesday of&nbsp\;each month. This is an excellent opportunity to meet and network with your Chamber colleagues in an informal setting.</font></span></span></span><br />\n<br />\n<span style="font-size: 12px"><span _mce_style="font-family: 'Arial'\, 'sans-serif'\; color: #000000\; font-size: 10pt\;" style="font-family: 'arial'\, 'sans-serif'\; color: #000000"><font color="#000000">The next Chamber Networking Luncheon will be held on Tuesday July 19 at Ayesha at the Galleria Mall\, 328 Crandon Boulevard Suite 115 at noon. You pay for your own meal and order whatever you would like from the menu. There are no additional charges to attend. For further information please contact Membership Committee Chair Robert Duzoglou at <span style="font-family: arial\, sans-serif"><a href="mailto:rddcorp@aol.com" target="_blank">rddcorp@aol.com</a>&nbsp\;</span></font></span></span><br />\n<span _mce_style="font-family: 'Arial'\, 'sans-serif'\; color: #000000\; font-size: 10pt\;" style="font-family: 'arial'\, 'sans-serif'\; color: #000000\; font-size: 10pt"><span style="font-size: 12px"><font color="#000000"><span _fck_bookmark="1" style="display: none">&nbsp\;</span></font></span></span>
LOCATION:
UID:e.330.2880
SEQUENCE:3
DTSTAMP:20260421T144208Z
URL:https://business.keybiscaynechamber.org/events/details/chamber-networking-luncheon-07-19-2011-2880
END:VEVENT

END:VCALENDAR
