BEGIN:VCALENDAR
VERSION:2.0
PRODID:-//ChamberMaster//Event Calendar 2.0//EN
METHOD:PUBLISH
X-PUBLISHED-TTL:P3D
REFRESH-INTERVAL:P3D
CALSCALE:GREGORIAN
BEGIN:VEVENT
DTSTART:20120117T170000Z
DTEND:20120117T180000Z
X-MICROSOFT-CDO-ALLDAYEVENT:FALSE
SUMMARY:Chamber Networking Luncheon
DESCRIPTION:Our Monthly Membership Luncheon will take place on Tuesday\, January 17th at noon at 100% Natural\, 180 Crandon Blvd Suite 101. Come to meet your fellow members in a relaxed\, informal atmosphere.
X-ALT-DESC;FMTTYPE=text/html:<p style="margin-top: 0px\; margin-bottom: 0px">\n	<span style="font-family: trebuchet ms\, geneva\; color: #000000\; font-size: 10pt">Our Monthly Membership Luncheon will take place on Tuesday\, January 17th at noon at 100% Natural\, 180 Crandon Blvd Suite 101. Come to meet your fellow members in a relaxed\, informal atmosphere.</span></p>\n
LOCATION:100% Natural
UID:e.330.3575
SEQUENCE:3
DTSTAMP:20260421T060923Z
URL:https://business.keybiscaynechamber.org/events/details/chamber-networking-luncheon-01-17-2012-3575
END:VEVENT

END:VCALENDAR
