BEGIN:VCALENDAR
VERSION:2.0
PRODID:-//ChamberMaster//Event Calendar 2.0//EN
METHOD:PUBLISH
X-PUBLISHED-TTL:P3D
REFRESH-INTERVAL:P3D
CALSCALE:GREGORIAN
BEGIN:VEVENT
DTSTART:20251002T220000Z
DTEND:20251003T010000Z
X-MICROSOFT-CDO-ALLDAYEVENT:FALSE
SUMMARY:Celebration of Life for Richard Vernon
DESCRIPTION:Celebration of Life for Richard Vernon\n\n \nThe Key Biscayne community is invited to join in a Celebration of Life honoring Mr. Richard Vernon\, a beloved longtime resident whose warmth and dedication touched so many. Friends and neighbors will gather to remember his life\, share stories\, and celebrate the lasting legacy he leaves in our island community.
X-ALT-DESC;FMTTYPE=text/html:&nbsp\;\n<div style="text-align: center\;"><span style="font-size:18px\;"><strong>Celebration of Life for Richard Vernon</strong></span><br />\n&nbsp\;</div>\n<span style="font-size:16px\;">The Key Biscayne community is invited to join in a Celebration of Life honoring Mr. Richard Vernon\, a beloved longtime resident whose warmth and dedication touched so many. Friends and neighbors will gather to remember his life\, share stories\, and celebrate the lasting legacy he leaves in our island community.</span><br />\n&nbsp\;
LOCATION:Key Biscayne Beach Club
UID:e.330.23224
SEQUENCE:3
DTSTAMP:20260424T212112Z
URL:https://business.keybiscaynechamber.org/events/details/celebration-of-life-for-richard-vernon-23224
END:VEVENT

END:VCALENDAR
