BEGIN:VCALENDAR
VERSION:2.0
PRODID:-//ChamberMaster//Event Calendar 2.0//EN
METHOD:PUBLISH
X-PUBLISHED-TTL:P3D
REFRESH-INTERVAL:P3D
CALSCALE:GREGORIAN
BEGIN:VEVENT
DTSTART:20260321T220000Z
DTEND:20260322T000000Z
X-MICROSOFT-CDO-ALLDAYEVENT:FALSE
SUMMARY:Celebration of Life for Mike & Barbara O'Brien
DESCRIPTION:The community is invited to gather in remembrance and celebration of the lives of Mike and Barbara O'Brien. Please join family and friends as we honor their legacy\, share memories\, and celebrate the love and joy they brought to so many.\n\n\n\nCausal Attire.\n\nFood and drink will be served.
X-ALT-DESC;FMTTYPE=text/html:<br />\n<br />\nThe community is invited to gather in remembrance and celebration of the lives of Mike and Barbara O&rsquo\;Brien. Please join family and friends as we honor their legacy\, share memories\, and celebrate the love and joy they brought to so many.<br />\n<br />\nCausal Attire.<br />\nFood and drink will be served.<br />\n&nbsp\;
LOCATION:Key Biscayne Beach Club
UID:e.330.24383
SEQUENCE:3
DTSTAMP:20260420T095931Z
URL:https://business.keybiscaynechamber.org/events/details/celebration-of-life-for-mike-barbara-o-brien-24383
END:VEVENT

END:VCALENDAR
